BEGIN:VCALENDAR
VERSION:2.0
PRODID:SchoolNow
CALSCALE:GREGORIAN
BEGIN:VEVENT
UID:d4422868-f071-11ef-a4e1-0277a1678f67
DTSTAMP:20260422T181007Z
SUMMARY:Winter Break - School & Office Closed
URL;VALUE=URI:https://www.spero.academy/calendar/7516024/winter-break-schoo
 l-office-closed
DTSTART;VALUE=DATE:20251222
DTEND;VALUE=DATE:20251227
END:VEVENT
END:VCALENDAR
