BEGIN:VCALENDAR
VERSION:2.0
PRODID:SchoolNow
CALSCALE:GREGORIAN
BEGIN:VEVENT
UID:d4422944-f071-11ef-9da8-0277a1678f67
DTSTAMP:20260422T181007Z
SUMMARY:Winter Break - School Closed
URL;VALUE=URI:https://www.spero.academy/calendar/7516025/winter-break-schoo
 l-closed
DTSTART;VALUE=DATE:20251229
DTEND;VALUE=DATE:20260101
END:VEVENT
END:VCALENDAR
