BEGIN:VCALENDAR
VERSION:2.0
PRODID:SchoolNow
CALSCALE:GREGORIAN
BEGIN:VEVENT
UID:d4422af2-f071-11ef-8472-0277a1678f67
DTSTAMP:20260422T181007Z
SUMMARY:New Year's Day - School & Office Closed
URL;VALUE=URI:https://www.spero.academy/calendar/7516027/new-years-day-scho
 ol-office-closed
DTSTART;VALUE=DATE:20260101
DTEND;VALUE=DATE:20260102
END:VEVENT
END:VCALENDAR
