BEGIN:VCALENDAR
VERSION:2.0
PRODID:SchoolNow
CALSCALE:GREGORIAN
BEGIN:VEVENT
UID:d4422bc4-f071-11ef-a9e9-0277a1678f67
DTSTAMP:20260422T181007Z
SUMMARY:School Resumes
URL;VALUE=URI:https://www.spero.academy/calendar/7516028/school-resumes
DTSTART;VALUE=DATE:20260105
DTEND;VALUE=DATE:20260106
END:VEVENT
END:VCALENDAR
