BEGIN:VCALENDAR
VERSION:2.0
PRODID:SchoolNow
CALSCALE:GREGORIAN
BEGIN:VEVENT
UID:d4422ca0-f071-11ef-8986-0277a1678f67
DTSTAMP:20260422T181007Z
SUMMARY:Martin Luther King Jr. Day - School & Office Closed
URL;VALUE=URI:https://www.spero.academy/calendar/7516029/martin-luther-king
 -jr-day-school-office-closed
DTSTART;VALUE=DATE:20260119
DTEND;VALUE=DATE:20260120
END:VEVENT
END:VCALENDAR
