BEGIN:VCALENDAR
VERSION:2.0
PRODID:SchoolNow
CALSCALE:GREGORIAN
BEGIN:VEVENT
UID:d4422d7c-f071-11ef-9c2c-0277a1678f67
DTSTAMP:20260422T181007Z
SUMMARY:Presidents Day - School & Office Closed
URL;VALUE=URI:https://www.spero.academy/calendar/7516030/presidents-day-sch
 ool-office-closed
DTSTART;VALUE=DATE:20260216
DTEND;VALUE=DATE:20260217
END:VEVENT
END:VCALENDAR
