BEGIN:VCALENDAR
VERSION:2.0
PRODID:SchoolNow
CALSCALE:GREGORIAN
BEGIN:VEVENT
UID:d4422e4e-f071-11ef-8f71-0277a1678f67
DTSTAMP:20260422T120507Z
SUMMARY:Brooklyn Park Family Teacher Conferences
URL;VALUE=URI:https://www.spero.academy/calendar/7516031/brooklyn-park-fami
 ly-teacher-conferences
DTSTART:20260305T203000Z
DTEND:20260306T000000Z
END:VEVENT
END:VCALENDAR
