BEGIN:VCALENDAR
VERSION:2.0
PRODID:SchoolNow
CALSCALE:GREGORIAN
BEGIN:VEVENT
UID:d4422f20-f071-11ef-b0da-0277a1678f67
DTSTAMP:20260422T120507Z
SUMMARY:Minneapolis Family Teacher Conferences
URL;VALUE=URI:https://www.spero.academy/calendar/7516032/minneapolis-family
 -teacher-conferences
DTSTART:20260305T213000Z
DTEND:20260306T010000Z
END:VEVENT
END:VCALENDAR
