BEGIN:VCALENDAR
VERSION:2.0
PRODID:SchoolNow
CALSCALE:GREGORIAN
BEGIN:VEVENT
UID:d4422ff2-f071-11ef-bc7a-0277a1678f67
DTSTAMP:20260422T181007Z
SUMMARY:Family Teacher Conferences
URL;VALUE=URI:https://www.spero.academy/calendar/7516033/family-teacher-con
 ferences
DTSTART:20260306T140000Z
DTEND:20260306T210000Z
END:VEVENT
END:VCALENDAR
