BEGIN:VCALENDAR
VERSION:2.0
PRODID:SchoolNow
CALSCALE:GREGORIAN
BEGIN:VEVENT
UID:d44230c4-f071-11ef-91b2-0277a1678f67
DTSTAMP:20260422T120507Z
SUMMARY:End of Second Trimester
URL;VALUE=URI:https://www.spero.academy/calendar/7516034/end-of-second-trim
 ester
DTSTART;VALUE=DATE:20260312
DTEND;VALUE=DATE:20260313
END:VEVENT
END:VCALENDAR
