BEGIN:VCALENDAR
VERSION:2.0
PRODID:SchoolNow
CALSCALE:GREGORIAN
BEGIN:VEVENT
UID:d44231a0-f071-11ef-b9c5-0277a1678f67
DTSTAMP:20260422T120507Z
SUMMARY:Spring Break - School Closed
URL;VALUE=URI:https://www.spero.academy/calendar/7516035/spring-break-schoo
 l-closed
DTSTART;VALUE=DATE:20260330
DTEND;VALUE=DATE:20260404
END:VEVENT
END:VCALENDAR
