BEGIN:VCALENDAR
VERSION:2.0
PRODID:SchoolNow
CALSCALE:GREGORIAN
BEGIN:VEVENT
UID:d4423272-f071-11ef-a365-0277a1678f67
DTSTAMP:20260422T120507Z
SUMMARY:Memorial Day - School & Office Closed
URL;VALUE=URI:https://www.spero.academy/calendar/7516036/memorial-day-schoo
 l-office-closed
DTSTART;VALUE=DATE:20260525
DTEND;VALUE=DATE:20260526
END:VEVENT
END:VCALENDAR
