BEGIN:VCALENDAR
VERSION:2.0
PRODID:SchoolNow
CALSCALE:GREGORIAN
BEGIN:VEVENT
UID:d4423358-f071-11ef-940a-0277a1678f67
DTSTAMP:20260422T120507Z
SUMMARY:Juneteenth - Office Closed
URL;VALUE=URI:https://www.spero.academy/calendar/7516037/juneteenth-office-
 closed
DTSTART;VALUE=DATE:20260619
DTEND;VALUE=DATE:20260620
END:VEVENT
END:VCALENDAR
