BEGIN:VCALENDAR
VERSION:2.0
PRODID:SchoolNow
CALSCALE:GREGORIAN
BEGIN:VEVENT
UID:d44234fc-f071-11ef-8095-0277a1678f67
DTSTAMP:20260422T120507Z
SUMMARY:Summer Break - School & Office Closed
URL;VALUE=URI:https://www.spero.academy/calendar/7516039/summer-break-schoo
 l-office-closed
DTSTART;VALUE=DATE:20260629
DTEND;VALUE=DATE:20260701
END:VEVENT
END:VCALENDAR
