BEGIN:VCALENDAR
VERSION:2.0
PRODID:SchoolNow
CALSCALE:GREGORIAN
BEGIN:VEVENT
UID:b3cb303a-8814-11f0-ba3b-02219eb694f7
DTSTAMP:20260422T181007Z
SUMMARY:Brooklyn Park Campus Information Session
LOCATION:Spero Academy\, 7444 N Humboldt Ave\, Brooklyn Park\, MN 55444\, U
 SA
URL;VALUE=URI:https://www.spero.academy/calendar/8570703/brooklyn-park-camp
 us-information-session
DTSTART:20260109T160000Z
DTEND:20260109T170000Z
END:VEVENT
END:VCALENDAR
