BEGIN:VCALENDAR
VERSION:2.0
PRODID:SchoolNow
CALSCALE:GREGORIAN
BEGIN:VEVENT
UID:b3cb35da-8814-11f0-bc93-02219eb694f7
DTSTAMP:20260422T181007Z
SUMMARY:Minneapolis Campus Information Session
LOCATION:Spero Academy\, 2701 California St NE\, Minneapolis\, MN 55418\, U
 SA
URL;VALUE=URI:https://www.spero.academy/calendar/8570709/minneapolis-campus
 -information-session
DTSTART:20260109T170000Z
DTEND:20260109T180000Z
END:VEVENT
END:VCALENDAR
