BEGIN:VCALENDAR
VERSION:2.0
PRODID:SchoolNow
CALSCALE:GREGORIAN
BEGIN:VEVENT
UID:b3cb36c0-8814-11f0-b6e5-02219eb694f7
DTSTAMP:20260422T181007Z
SUMMARY:Minneapolis Campus Information Session
LOCATION:Spero Academy\, 2701 California St NE\, Minneapolis\, MN 55418\, U
 SA
URL;VALUE=URI:https://www.spero.academy/calendar/8570710/minneapolis-campus
 -information-session
DTSTART:20260114T230000Z
DTEND:20260115T000000Z
END:VEVENT
END:VCALENDAR
