BEGIN:VCALENDAR
VERSION:2.0
PRODID:SchoolNow
CALSCALE:GREGORIAN
BEGIN:VEVENT
UID:71126a5c-31b9-11f1-8c5b-0afff2e9d76d
DTSTAMP:20260422T181007Z
SUMMARY:Spero Academy Board Meeting
URL;VALUE=URI:https://www.spero.academy/calendar/8974293/spero-academy-boar
 d-meeting
DTSTART:20260224T233000Z
DTEND:20260225T013000Z
END:VEVENT
END:VCALENDAR
