BEGIN:VCALENDAR
VERSION:2.0
PRODID:SchoolNow
CALSCALE:GREGORIAN
BEGIN:VEVENT
UID:71126bec-31b9-11f1-80fc-0afff2e9d76d
DTSTAMP:20260422T120507Z
SUMMARY:Spero Academy Board Meeting
URL;VALUE=URI:https://www.spero.academy/calendar/8974294/spero-academy-boar
 d-meeting
DTSTART:20260324T223000Z
DTEND:20260325T003000Z
END:VEVENT
END:VCALENDAR
